Package: CellBench Version: 1.22.0 Command: /Library/Frameworks/R.framework/Resources/bin/R CMD check --install=check:CellBench.install-out.txt --library=/Library/Frameworks/R.framework/Resources/library --no-vignettes --timings CellBench_1.22.0.tar.gz StartedAt: 2025-02-04 00:56:44 -0500 (Tue, 04 Feb 2025) EndedAt: 2025-02-04 01:04:43 -0500 (Tue, 04 Feb 2025) EllapsedTime: 478.6 seconds RetCode: 0 Status: OK CheckDir: CellBench.Rcheck Warnings: 0