Package: CellBench
Version: 1.21.0
Command: rm -rf CellBench.buildbin-libdir && mkdir CellBench.buildbin-libdir && C:\Users\biocbuild\bbs-3.20-bioc\R\bin\R.exe CMD INSTALL --build --library=CellBench.buildbin-libdir CellBench_1.21.0.tar.gz
StartedAt: 2024-07-16 05:59:43 -0400 (Tue, 16 Jul 2024)
EndedAt: 2024-07-16 06:00:17 -0400 (Tue, 16 Jul 2024)
EllapsedTime: 34.1 seconds
RetCode: 0
Status: OK
PackageFile: CellBench_1.21.0.zip
PackageFileSize: 3.032 <A href="http://en.wikipedia.org/wiki/MiB" target="_blank">MiB</A>