Package: CellMixS Version: 1.22.0 Command: /Library/Frameworks/R.framework/Resources/bin/R CMD build --keep-empty-dirs --no-resave-data CellMixS StartedAt: 2025-02-03 20:15:56 -0500 (Mon, 03 Feb 2025) EndedAt: 2025-02-03 20:18:38 -0500 (Mon, 03 Feb 2025) EllapsedTime: 161.2 seconds RetCode: 0 Status: OK PackageFile: CellMixS_1.22.0.tar.gz PackageFileSize: 4.125 MiB