Package: CellMixS Version: 1.22.0 Command: rm -rf CellMixS.buildbin-libdir && mkdir CellMixS.buildbin-libdir && /Users/biocbuild/BBS/utils/build-universal.sh CellMixS_1.22.0.tar.gz /Library/Frameworks/R.framework/Resources/bin/R CellMixS.buildbin-libdir StartedAt: 2025-02-04 12:37:24 -0500 (Tue, 04 Feb 2025) EndedAt: 2025-02-04 12:38:28 -0500 (Tue, 04 Feb 2025) EllapsedTime: 64.3 seconds RetCode: 0 Status: OK PackageFile: CellMixS_1.22.0.tgz PackageFileSize: 4.198 MiB