Package: CellMixS Version: 1.22.0 Command: /Library/Frameworks/R.framework/Resources/bin/R CMD check --install=check:CellMixS.install-out.txt --library=/Library/Frameworks/R.framework/Resources/library --no-vignettes --timings CellMixS_1.22.0.tar.gz StartedAt: 2025-02-04 00:58:11 -0500 (Tue, 04 Feb 2025) EndedAt: 2025-02-04 01:06:59 -0500 (Tue, 04 Feb 2025) EllapsedTime: 527.7 seconds RetCode: 0 Status: OK CheckDir: CellMixS.Rcheck Warnings: 0