Package: CellMixS Version: 1.22.0 Command: /home/biocbuild/bbs-3.20-bioc/R/bin/R CMD build --keep-empty-dirs --no-resave-data --md5 CellMixS StartedAt: 2025-02-03 16:45:27 -0500 (Mon, 03 Feb 2025) EndedAt: 2025-02-03 16:48:03 -0500 (Mon, 03 Feb 2025) EllapsedTime: 156.1 seconds RetCode: 0 Status: OK PackageFile: CellMixS_1.22.0.tar.gz PackageFileSize: 3.912 MiB