Package: CellMixS Version: 1.22.0 Command: /home/biocbuild/bbs-3.20-bioc/R/bin/R CMD INSTALL CellMixS StartedAt: 2025-02-03 16:01:04 -0500 (Mon, 03 Feb 2025) EndedAt: 2025-02-03 16:01:33 -0500 (Mon, 03 Feb 2025) EllapsedTime: 29.5 seconds RetCode: 0 Status: OK