Package: CellMixS Version: 1.22.0 Command: /home/biocbuild/R/R/bin/R CMD build --keep-empty-dirs --no-resave-data CellMixS StartedAt: 2025-02-03 22:28:51 -0000 (Mon, 03 Feb 2025) EndedAt: 2025-02-03 22:32:31 -0000 (Mon, 03 Feb 2025) EllapsedTime: 220.1 seconds RetCode: 0 Status: OK PackageFile: CellMixS_1.22.0.tar.gz PackageFileSize: 2.838 MiB