Package: CellNOptR Version: 1.52.0 Command: /Library/Frameworks/R.framework/Resources/bin/R CMD check --install=check:CellNOptR.install-out.txt --library=/Library/Frameworks/R.framework/Resources/library --no-vignettes --timings CellNOptR_1.52.0.tar.gz StartedAt: 2024-11-08 22:27:36 -0500 (Fri, 08 Nov 2024) EndedAt: 2024-11-08 22:31:58 -0500 (Fri, 08 Nov 2024) EllapsedTime: 261.6 seconds RetCode: 0 Status: OK CheckDir: CellNOptR.Rcheck Warnings: 0