Package: CellNOptR Version: 1.52.0 Command: /home/biocbuild/R/R/bin/R CMD INSTALL CellNOptR StartedAt: 2024-11-19 20:59:41 -0000 (Tue, 19 Nov 2024) EndedAt: 2024-11-19 21:00:04 -0000 (Tue, 19 Nov 2024) EllapsedTime: 23.1 seconds RetCode: 0 Status: OK