Package: CellNOptR Version: 1.52.0 Command: /Library/Frameworks/R.framework/Resources/bin/R CMD INSTALL CellNOptR StartedAt: 2024-11-19 15:24:52 -0500 (Tue, 19 Nov 2024) EndedAt: 2024-11-19 15:25:15 -0500 (Tue, 19 Nov 2024) EllapsedTime: 22.6 seconds RetCode: 0 Status: OK