Package: CellNOptR Version: 1.52.0 Command: /home/biocbuild/bbs-3.20-bioc/R/bin/R CMD build --keep-empty-dirs --no-resave-data --md5 CellNOptR StartedAt: 2025-02-03 16:45:37 -0500 (Mon, 03 Feb 2025) EndedAt: 2025-02-03 16:46:01 -0500 (Mon, 03 Feb 2025) EllapsedTime: 24.0 seconds RetCode: 0 Status: OK PackageFile: CellNOptR_1.52.0.tar.gz PackageFileSize: 3.539 MiB