Package: CellScore Version: 1.26.0 Command: rm -rf CellScore.buildbin-libdir && mkdir CellScore.buildbin-libdir && F:\biocbuild\bbs-3.20-bioc\R\bin\R.exe CMD INSTALL --build --library=CellScore.buildbin-libdir CellScore_1.26.0.tar.gz StartedAt: 2025-02-04 08:09:56 -0500 (Tue, 04 Feb 2025) EndedAt: 2025-02-04 08:10:28 -0500 (Tue, 04 Feb 2025) EllapsedTime: 31.4 seconds RetCode: 0 Status: OK PackageFile: CellScore_1.26.0.zip PackageFileSize: 4.267 MiB