Package: CellScore Version: 1.26.0 Command: /home/biocbuild/R/R/bin/R CMD check --install=check:CellScore.install-out.txt --library=/home/biocbuild/R/R/site-library --no-vignettes --timings CellScore_1.26.0.tar.gz StartedAt: 2025-02-04 05:28:59 -0000 (Tue, 04 Feb 2025) EndedAt: 2025-02-04 05:36:57 -0000 (Tue, 04 Feb 2025) EllapsedTime: 478.5 seconds RetCode: 0 Status: OK CheckDir: CellScore.Rcheck Warnings: 0