Package: CellTrails Version: 1.24.0 Command: /Library/Frameworks/R.framework/Resources/bin/R CMD build --keep-empty-dirs --no-resave-data CellTrails StartedAt: 2025-02-03 20:17:17 -0500 (Mon, 03 Feb 2025) EndedAt: 2025-02-03 20:18:07 -0500 (Mon, 03 Feb 2025) EllapsedTime: 50.5 seconds RetCode: 0 Status: OK PackageFile: CellTrails_1.24.0.tar.gz PackageFileSize: 2.628 MiB