Package: CellTrails Version: 1.24.0 Command: rm -rf CellTrails.buildbin-libdir && mkdir CellTrails.buildbin-libdir && /Users/biocbuild/BBS/utils/build-universal.sh CellTrails_1.24.0.tar.gz /Library/Frameworks/R.framework/Resources/bin/R CellTrails.buildbin-libdir StartedAt: 2024-11-20 04:18:19 -0500 (Wed, 20 Nov 2024) EndedAt: 2024-11-20 04:19:05 -0500 (Wed, 20 Nov 2024) EllapsedTime: 45.9 seconds RetCode: 0 Status: OK PackageFile: CellTrails_1.24.0.tgz PackageFileSize: 3.008 MiB