Package: CellTrails Version: 1.24.0 Command: /Library/Frameworks/R.framework/Resources/bin/R CMD build --keep-empty-dirs --no-resave-data CellTrails StartedAt: 2024-11-19 16:13:49 -0500 (Tue, 19 Nov 2024) EndedAt: 2024-11-19 16:14:39 -0500 (Tue, 19 Nov 2024) EllapsedTime: 50.0 seconds RetCode: 0 Status: OK PackageFile: CellTrails_1.24.0.tar.gz PackageFileSize: 2.628 MiB