Package: CellTrails Version: 1.24.0 Command: /Library/Frameworks/R.framework/Resources/bin/R CMD check --install=check:CellTrails.install-out.txt --library=/Library/Frameworks/R.framework/Resources/library --no-vignettes --timings CellTrails_1.24.0.tar.gz StartedAt: 2024-11-19 20:23:11 -0500 (Tue, 19 Nov 2024) EndedAt: 2024-11-19 20:30:10 -0500 (Tue, 19 Nov 2024) EllapsedTime: 419.3 seconds RetCode: 0 Status: OK CheckDir: CellTrails.Rcheck Warnings: 0