Package: CellTrails Version: 1.24.0 Command: /Library/Frameworks/R.framework/Resources/bin/R CMD INSTALL CellTrails StartedAt: 2024-11-19 15:12:06 -0500 (Tue, 19 Nov 2024) EndedAt: 2024-11-19 15:12:46 -0500 (Tue, 19 Nov 2024) EllapsedTime: 40.7 seconds RetCode: 0 Status: OK