Package: CellTrails Version: 1.24.0 Command: rm -rf CellTrails.buildbin-libdir && mkdir CellTrails.buildbin-libdir && /Users/biocbuild/BBS/utils/build-universal.sh CellTrails_1.24.0.tar.gz /Library/Frameworks/R.framework/Resources/bin/R CellTrails.buildbin-libdir StartedAt: 2025-01-31 12:29:32 -0500 (Fri, 31 Jan 2025) EndedAt: 2025-01-31 12:30:42 -0500 (Fri, 31 Jan 2025) EllapsedTime: 69.4 seconds RetCode: 0 Status: OK PackageFile: CellTrails_1.24.0.tgz PackageFileSize: 3.008 MiB