Package: CellTrails Version: 1.24.0 Command: /Library/Frameworks/R.framework/Resources/bin/R CMD build --keep-empty-dirs --no-resave-data CellTrails StartedAt: 2025-01-30 17:47:54 -0500 (Thu, 30 Jan 2025) EndedAt: 2025-01-30 17:49:28 -0500 (Thu, 30 Jan 2025) EllapsedTime: 94.2 seconds RetCode: 0 Status: OK PackageFile: CellTrails_1.24.0.tar.gz PackageFileSize: 2.628 MiB