Package: CellTrails Version: 1.24.0 Command: /Library/Frameworks/R.framework/Resources/bin/R CMD check --install=check:CellTrails.install-out.txt --library=/Library/Frameworks/R.framework/Resources/library --no-vignettes --timings CellTrails_1.24.0.tar.gz StartedAt: 2025-01-31 01:24:45 -0500 (Fri, 31 Jan 2025) EndedAt: 2025-01-31 01:33:19 -0500 (Fri, 31 Jan 2025) EllapsedTime: 514.8 seconds RetCode: 0 Status: OK CheckDir: CellTrails.Rcheck Warnings: 0