Package: CellTrails Version: 1.24.0 Command: /Library/Frameworks/R.framework/Resources/bin/R CMD INSTALL CellTrails StartedAt: 2025-01-30 15:24:44 -0500 (Thu, 30 Jan 2025) EndedAt: 2025-01-30 15:25:55 -0500 (Thu, 30 Jan 2025) EllapsedTime: 70.3 seconds RetCode: 0 Status: OK