Package: CellTrails Version: 1.24.0 Command: /home/biocbuild/bbs-3.20-bioc/R/bin/R CMD check --install=check:CellTrails.install-out.txt --library=/home/biocbuild/bbs-3.20-bioc/R/site-library --timings CellTrails_1.24.0.tar.gz StartedAt: 2025-01-30 20:39:55 -0500 (Thu, 30 Jan 2025) EndedAt: 2025-01-30 20:43:51 -0500 (Thu, 30 Jan 2025) EllapsedTime: 236.2 seconds RetCode: 0 Status: OK CheckDir: CellTrails.Rcheck Warnings: 0