Package: CellTrails Version: 1.24.0 Command: /home/biocbuild/R/R/bin/R CMD check --install=check:CellTrails.install-out.txt --library=/home/biocbuild/R/R/site-library --no-vignettes --timings CellTrails_1.24.0.tar.gz StartedAt: 2025-01-31 04:45:40 -0000 (Fri, 31 Jan 2025) EndedAt: 2025-01-31 04:50:35 -0000 (Fri, 31 Jan 2025) EllapsedTime: 295.2 seconds RetCode: 0 Status: OK CheckDir: CellTrails.Rcheck Warnings: 0