Package: CellTrails Version: 1.24.0 Command: /home/biocbuild/bbs-3.20-bioc/R/bin/R CMD build --keep-empty-dirs --no-resave-data CellTrails StartedAt: 2024-11-19 17:58:01 -0500 (Tue, 19 Nov 2024) EndedAt: 2024-11-19 17:58:33 -0500 (Tue, 19 Nov 2024) EllapsedTime: 32.0 seconds RetCode: 0 Status: OK PackageFile: CellTrails_1.24.0.tar.gz PackageFileSize: 2.628 MiB