Package: CelliD Version: 1.14.0 Command: /Library/Frameworks/R.framework/Resources/bin/R CMD build --keep-empty-dirs --no-resave-data CelliD StartedAt: 2025-02-03 17:42:19 -0500 (Mon, 03 Feb 2025) EndedAt: 2025-02-03 17:58:07 -0500 (Mon, 03 Feb 2025) EllapsedTime: 948.4 seconds RetCode: 0 Status: OK PackageFile: CelliD_1.14.0.tar.gz PackageFileSize: 2.594 MiB