Package: CelliD Version: 1.14.0 Command: /Library/Frameworks/R.framework/Resources/bin/R CMD INSTALL CelliD StartedAt: 2025-02-03 16:35:57 -0500 (Mon, 03 Feb 2025) EndedAt: 2025-02-03 16:38:24 -0500 (Mon, 03 Feb 2025) EllapsedTime: 146.5 seconds RetCode: 0 Status: OK