Package: CelliD Version: 1.14.0 Command: rm -rf CelliD.buildbin-libdir && mkdir CelliD.buildbin-libdir && F:\biocbuild\bbs-3.20-bioc\R\bin\R.exe CMD INSTALL --build --library=CelliD.buildbin-libdir CelliD_1.14.0.tar.gz StartedAt: 2025-02-04 08:09:33 -0500 (Tue, 04 Feb 2025) EndedAt: 2025-02-04 08:12:05 -0500 (Tue, 04 Feb 2025) EllapsedTime: 151.7 seconds RetCode: 0 Status: OK PackageFile: CelliD_1.14.0.zip PackageFileSize: 1.56 MiB