Package: CelliD Version: 1.14.0 Command: /home/biocbuild/R/R/bin/R CMD build --keep-empty-dirs --no-resave-data CelliD StartedAt: 2025-02-03 22:27:48 -0000 (Mon, 03 Feb 2025) EndedAt: 2025-02-03 22:54:16 -0000 (Mon, 03 Feb 2025) EllapsedTime: 1588.2 seconds RetCode: 0 Status: OK PackageFile: CelliD_1.14.0.tar.gz PackageFileSize: 1.236 MiB