Package: Cepo Version: 1.12.0 Command: rm -rf Cepo.buildbin-libdir && mkdir Cepo.buildbin-libdir && /Users/biocbuild/BBS/utils/build-universal.sh Cepo_1.12.0.tar.gz /Library/Frameworks/R.framework/Resources/bin/R Cepo.buildbin-libdir StartedAt: 2025-02-05 15:09:33 -0500 (Wed, 05 Feb 2025) EndedAt: 2025-02-05 15:10:13 -0500 (Wed, 05 Feb 2025) EllapsedTime: 39.4 seconds RetCode: 0 Status: OK PackageFile: Cepo_1.12.0.tgz PackageFileSize: 3.954 MiB