Package: Cepo Version: 1.12.0 Command: /Library/Frameworks/R.framework/Resources/bin/R CMD build --keep-empty-dirs --no-resave-data Cepo StartedAt: 2025-02-03 20:20:15 -0500 (Mon, 03 Feb 2025) EndedAt: 2025-02-03 20:22:19 -0500 (Mon, 03 Feb 2025) EllapsedTime: 123.6 seconds RetCode: 0 Status: OK PackageFile: Cepo_1.12.0.tar.gz PackageFileSize: 3.918 MiB