Package: Cepo Version: 1.12.0 Command: rm -rf Cepo.buildbin-libdir && mkdir Cepo.buildbin-libdir && /Users/biocbuild/BBS/utils/build-universal.sh Cepo_1.12.0.tar.gz /Library/Frameworks/R.framework/Resources/bin/R Cepo.buildbin-libdir StartedAt: 2025-02-04 12:37:47 -0500 (Tue, 04 Feb 2025) EndedAt: 2025-02-04 12:39:04 -0500 (Tue, 04 Feb 2025) EllapsedTime: 77.1 seconds RetCode: 0 Status: OK PackageFile: Cepo_1.12.0.tgz PackageFileSize: 3.956 MiB