Package: Cepo Version: 1.12.0 Command: /Library/Frameworks/R.framework/Resources/bin/R CMD build --keep-empty-dirs --no-resave-data Cepo StartedAt: 2025-02-03 17:44:31 -0500 (Mon, 03 Feb 2025) EndedAt: 2025-02-03 17:47:46 -0500 (Mon, 03 Feb 2025) EllapsedTime: 194.7 seconds RetCode: 0 Status: OK PackageFile: Cepo_1.12.0.tar.gz PackageFileSize: 3.92 MiB