Package: Cepo Version: 1.12.0 Command: /Library/Frameworks/R.framework/Resources/bin/R CMD check --install=check:Cepo.install-out.txt --library=/Library/Frameworks/R.framework/Resources/library --no-vignettes --timings Cepo_1.12.0.tar.gz StartedAt: 2025-02-04 01:02:43 -0500 (Tue, 04 Feb 2025) EndedAt: 2025-02-04 01:11:19 -0500 (Tue, 04 Feb 2025) EllapsedTime: 516.1 seconds RetCode: 0 Status: OK CheckDir: Cepo.Rcheck Warnings: 0