Package: CexoR Version: 1.44.0 Command: rm -rf CexoR.buildbin-libdir && mkdir CexoR.buildbin-libdir && /Users/biocbuild/BBS/utils/build-universal.sh CexoR_1.44.0.tar.gz /Library/Frameworks/R.framework/Resources/bin/R CexoR.buildbin-libdir StartedAt: 2025-02-05 15:09:56 -0500 (Wed, 05 Feb 2025) EndedAt: 2025-02-05 15:10:40 -0500 (Wed, 05 Feb 2025) EllapsedTime: 44.1 seconds RetCode: 0 Status: OK PackageFile: CexoR_1.44.0.tgz PackageFileSize: 1.694 MiB