Package: CexoR Version: 1.44.0 Command: /Library/Frameworks/R.framework/Resources/bin/R CMD build --keep-empty-dirs --no-resave-data CexoR StartedAt: 2025-02-03 20:21:53 -0500 (Mon, 03 Feb 2025) EndedAt: 2025-02-03 20:23:10 -0500 (Mon, 03 Feb 2025) EllapsedTime: 77.7 seconds RetCode: 0 Status: OK PackageFile: CexoR_1.44.0.tar.gz PackageFileSize: 1.66 MiB