Package: CexoR Version: 1.44.0 Command: /Library/Frameworks/R.framework/Resources/bin/R CMD build --keep-empty-dirs --no-resave-data CexoR StartedAt: 2025-02-03 17:44:54 -0500 (Mon, 03 Feb 2025) EndedAt: 2025-02-03 17:47:02 -0500 (Mon, 03 Feb 2025) EllapsedTime: 128.2 seconds RetCode: 0 Status: OK PackageFile: CexoR_1.44.0.tar.gz PackageFileSize: 1.66 MiB