Package: CexoR
Version: 1.43.0
Command: chmod a+r CexoR -R && F:\biocbuild\bbs-3.20-bioc\R\bin\R.exe CMD build --keep-empty-dirs --no-resave-data CexoR
StartedAt: 2024-06-09 17:49:44 -0400 (Sun, 09 Jun 2024)
EndedAt: 2024-06-09 17:51:12 -0400 (Sun, 09 Jun 2024)
EllapsedTime: 87.9 seconds
RetCode: 0
Status: OK
PackageFile: CexoR_1.43.0.tar.gz
PackageFileSize: 1.661 <A href="http://en.wikipedia.org/wiki/MiB" target="_blank">MiB</A>