Package: CexoR Version: 1.44.0 Command: chmod a+r CexoR -R && F:\biocbuild\bbs-3.20-bioc\R\bin\R.exe CMD build --keep-empty-dirs --no-resave-data CexoR StartedAt: 2025-02-03 18:03:09 -0500 (Mon, 03 Feb 2025) EndedAt: 2025-02-03 18:04:32 -0500 (Mon, 03 Feb 2025) EllapsedTime: 82.8 seconds RetCode: 0 Status: OK PackageFile: CexoR_1.44.0.tar.gz PackageFileSize: 1.661 MiB