Package: ChAMP
Version: 2.36.0
Command: rm -rf ChAMP.buildbin-libdir && mkdir ChAMP.buildbin-libdir && /Users/biocbuild/BBS/utils/build-universal.sh ChAMP_2.36.0.tar.gz /Library/Frameworks/R.framework/Resources/bin/R ChAMP.buildbin-libdir
StartedAt: 2024-11-09 16:41:38 -0500 (Sat, 09 Nov 2024)
EndedAt: 2024-11-09 16:42:09 -0500 (Sat, 09 Nov 2024)
EllapsedTime: 30.4 seconds
RetCode: 0
Status: OK
PackageFile: ChAMP_2.36.0.tgz
PackageFileSize: 4.211 <A href="http://en.wikipedia.org/wiki/MiB" target="_blank">MiB</A>