Package: ChAMP Version: 2.36.0 Command: rm -rf ChAMP.buildbin-libdir && mkdir ChAMP.buildbin-libdir && F:\biocbuild\bbs-3.20-bioc\R\bin\R.exe CMD INSTALL --build --library=ChAMP.buildbin-libdir ChAMP_2.36.0.tar.gz StartedAt: 2025-02-04 08:10:50 -0500 (Tue, 04 Feb 2025) EndedAt: 2025-02-04 08:12:22 -0500 (Tue, 04 Feb 2025) EllapsedTime: 91.9 seconds RetCode: 0 Status: OK PackageFile: ChAMP_2.36.0.zip PackageFileSize: 4.137 MiB