Package: ChAMP Version: 2.36.0 Command: F:\biocbuild\bbs-3.20-bioc\R\bin\R.exe CMD check --no-multiarch --install=check:ChAMP.install-out.txt --library=F:\biocbuild\bbs-3.20-bioc\R\library --no-vignettes --timings ChAMP_2.36.0.tar.gz StartedAt: 2025-02-04 00:11:09 -0500 (Tue, 04 Feb 2025) EndedAt: 2025-02-04 00:21:01 -0500 (Tue, 04 Feb 2025) EllapsedTime: 591.4 seconds RetCode: 0 Status: WARNINGS CheckDir: ChAMP.Rcheck Warnings: 2