Package: ChAMP
Version: 2.36.0
Command: /home/biocbuild/bbs-3.20-bioc/R/bin/R CMD build --keep-empty-dirs --no-resave-data ChAMP
StartedAt: 2024-11-19 18:00:11 -0500 (Tue, 19 Nov 2024)
EndedAt: 2024-11-19 18:02:07 -0500 (Tue, 19 Nov 2024)
EllapsedTime: 116.1 seconds
RetCode: 0
Status: OK
PackageFile: ChAMP_2.36.0.tar.gz
PackageFileSize: 7.952 <A href="http://en.wikipedia.org/wiki/MiB" target="_blank">MiB</A>