Package: ChIPComp Version: 1.36.0 Command: /Library/Frameworks/R.framework/Resources/bin/R CMD build --keep-empty-dirs --no-resave-data ChIPComp StartedAt: 2025-02-03 20:27:31 -0500 (Mon, 03 Feb 2025) EndedAt: 2025-02-03 20:28:43 -0500 (Mon, 03 Feb 2025) EllapsedTime: 71.9 seconds RetCode: 0 Status: OK PackageFile: ChIPComp_1.36.0.tar.gz PackageFileSize: 595.8 KiB