Package: ChIPComp Version: 1.36.0 Command: rm -rf ChIPComp.buildbin-libdir && mkdir ChIPComp.buildbin-libdir && /Users/biocbuild/BBS/utils/build-universal.sh ChIPComp_1.36.0.tar.gz /Library/Frameworks/R.framework/Resources/bin/R ChIPComp.buildbin-libdir StartedAt: 2025-02-04 12:38:22 -0500 (Tue, 04 Feb 2025) EndedAt: 2025-02-04 12:39:34 -0500 (Tue, 04 Feb 2025) EllapsedTime: 71.8 seconds RetCode: 0 Status: OK PackageFile: ChIPComp_1.36.0.tgz PackageFileSize: 638.2 KiB