Package: ChIPComp Version: 1.36.0 Command: /Library/Frameworks/R.framework/Resources/bin/R CMD check --install=check:ChIPComp.install-out.txt --library=/Library/Frameworks/R.framework/Resources/library --no-vignettes --timings ChIPComp_1.36.0.tar.gz StartedAt: 2025-02-04 01:08:46 -0500 (Tue, 04 Feb 2025) EndedAt: 2025-02-04 01:17:21 -0500 (Tue, 04 Feb 2025) EllapsedTime: 515.5 seconds RetCode: 0 Status: OK CheckDir: ChIPComp.Rcheck Warnings: 0