Package: ChIPComp Version: 1.36.0 Command: /Library/Frameworks/R.framework/Resources/bin/R CMD INSTALL ChIPComp StartedAt: 2025-02-03 15:45:19 -0500 (Mon, 03 Feb 2025) EndedAt: 2025-02-03 15:46:24 -0500 (Mon, 03 Feb 2025) EllapsedTime: 64.7 seconds RetCode: 0 Status: OK