Package: ChIPComp Version: 1.36.0 Command: /home/biocbuild/R/R/bin/R CMD build --keep-empty-dirs --no-resave-data ChIPComp StartedAt: 2025-02-03 22:33:39 -0000 (Mon, 03 Feb 2025) EndedAt: 2025-02-03 22:34:44 -0000 (Mon, 03 Feb 2025) EllapsedTime: 65.0 seconds RetCode: 0 Status: OK PackageFile: ChIPComp_1.36.0.tar.gz PackageFileSize: 590 KiB