Package: ChIPComp Version: 1.36.0 Command: /home/biocbuild/R/R/bin/R CMD INSTALL ChIPComp StartedAt: 2025-02-03 20:42:19 -0000 (Mon, 03 Feb 2025) EndedAt: 2025-02-03 20:42:57 -0000 (Mon, 03 Feb 2025) EllapsedTime: 37.6 seconds RetCode: 0 Status: OK